BEGIN:VCALENDAR
VERSION:2.0
PRODID:-//KiddiStop - ECPv6.15.11//NONSGML v1.0//EN
CALSCALE:GREGORIAN
METHOD:PUBLISH
X-WR-CALNAME:KiddiStop
X-ORIGINAL-URL:https://kiddistop.co.uk
X-WR-CALDESC:Events for KiddiStop
REFRESH-INTERVAL;VALUE=DURATION:PT1H
X-Robots-Tag:noindex
X-PUBLISHED-TTL:PT1H
BEGIN:VTIMEZONE
TZID:Europe/London
BEGIN:DAYLIGHT
TZOFFSETFROM:+0000
TZOFFSETTO:+0100
TZNAME:BST
DTSTART:20250330T010000
END:DAYLIGHT
BEGIN:STANDARD
TZOFFSETFROM:+0100
TZOFFSETTO:+0000
TZNAME:GMT
DTSTART:20251026T010000
END:STANDARD
BEGIN:DAYLIGHT
TZOFFSETFROM:+0000
TZOFFSETTO:+0100
TZNAME:BST
DTSTART:20260329T010000
END:DAYLIGHT
BEGIN:STANDARD
TZOFFSETFROM:+0100
TZOFFSETTO:+0000
TZNAME:GMT
DTSTART:20261025T010000
END:STANDARD
BEGIN:DAYLIGHT
TZOFFSETFROM:+0000
TZOFFSETTO:+0100
TZNAME:BST
DTSTART:20270328T010000
END:DAYLIGHT
BEGIN:STANDARD
TZOFFSETFROM:+0100
TZOFFSETTO:+0000
TZNAME:GMT
DTSTART:20271031T010000
END:STANDARD
END:VTIMEZONE
BEGIN:VEVENT
DTSTART;TZID=Europe/London:20260801T100000
DTEND;TZID=Europe/London:20260801T160000
DTSTAMP:20260421T175522
CREATED:20260329T204236Z
LAST-MODIFIED:20260329T204236Z
UID:36835-1785578400-1785600000@kiddistop.co.uk
SUMMARY:Softplay entry @ 10:00 01-08-2026
DESCRIPTION:
URL:https://kiddistop.co.uk/event/softplay-entry-1000-01-08-2026/
CATEGORIES:Softplay booking
END:VEVENT
BEGIN:VEVENT
DTSTART;TZID=Europe/London:20260802T100000
DTEND;TZID=Europe/London:20260802T160000
DTSTAMP:20260421T175522
CREATED:20260329T204249Z
LAST-MODIFIED:20260329T204249Z
UID:36836-1785664800-1785686400@kiddistop.co.uk
SUMMARY:Softplay entry @ 10:00 02-08-2026
DESCRIPTION:
URL:https://kiddistop.co.uk/event/softplay-entry-1000-02-08-2026/
CATEGORIES:Softplay booking
END:VEVENT
BEGIN:VEVENT
DTSTART;TZID=Europe/London:20260808T100000
DTEND;TZID=Europe/London:20260808T160000
DTSTAMP:20260421T175522
CREATED:20260329T204250Z
LAST-MODIFIED:20260329T204250Z
UID:36837-1786183200-1786204800@kiddistop.co.uk
SUMMARY:Softplay entry @ 10:00 08-08-2026
DESCRIPTION:
URL:https://kiddistop.co.uk/event/softplay-entry-1000-08-08-2026/
CATEGORIES:Softplay booking
END:VEVENT
BEGIN:VEVENT
DTSTART;TZID=Europe/London:20260809T100000
DTEND;TZID=Europe/London:20260809T160000
DTSTAMP:20260421T175522
CREATED:20260329T204250Z
LAST-MODIFIED:20260329T204250Z
UID:36838-1786269600-1786291200@kiddistop.co.uk
SUMMARY:Softplay entry @ 10:00 09-08-2026
DESCRIPTION:
URL:https://kiddistop.co.uk/event/softplay-entry-1000-09-08-2026/
CATEGORIES:Softplay booking
END:VEVENT
BEGIN:VEVENT
DTSTART;TZID=Europe/London:20260815T100000
DTEND;TZID=Europe/London:20260815T160000
DTSTAMP:20260421T175522
CREATED:20260329T204251Z
LAST-MODIFIED:20260329T204251Z
UID:36839-1786788000-1786809600@kiddistop.co.uk
SUMMARY:Softplay entry @ 10:00 15-08-2026
DESCRIPTION:
URL:https://kiddistop.co.uk/event/softplay-entry-1000-15-08-2026/
CATEGORIES:Softplay booking
END:VEVENT
BEGIN:VEVENT
DTSTART;TZID=Europe/London:20260816T100000
DTEND;TZID=Europe/London:20260816T160000
DTSTAMP:20260421T175522
CREATED:20260329T204251Z
LAST-MODIFIED:20260329T204251Z
UID:36840-1786874400-1786896000@kiddistop.co.uk
SUMMARY:Softplay entry @ 10:00 16-08-2026
DESCRIPTION:
URL:https://kiddistop.co.uk/event/softplay-entry-1000-16-08-2026/
CATEGORIES:Softplay booking
END:VEVENT
BEGIN:VEVENT
DTSTART;TZID=Europe/London:20260822T100000
DTEND;TZID=Europe/London:20260822T160000
DTSTAMP:20260421T175522
CREATED:20260329T204304Z
LAST-MODIFIED:20260329T204304Z
UID:36841-1787392800-1787414400@kiddistop.co.uk
SUMMARY:Softplay entry @ 10:00 22-08-2026
DESCRIPTION:
URL:https://kiddistop.co.uk/event/softplay-entry-1000-22-08-2026/
CATEGORIES:Softplay booking
END:VEVENT
BEGIN:VEVENT
DTSTART;TZID=Europe/London:20260823T100000
DTEND;TZID=Europe/London:20260823T160000
DTSTAMP:20260421T175522
CREATED:20260329T204305Z
LAST-MODIFIED:20260329T204305Z
UID:36842-1787479200-1787500800@kiddistop.co.uk
SUMMARY:Softplay entry @ 10:00 23-08-2026
DESCRIPTION:
URL:https://kiddistop.co.uk/event/softplay-entry-1000-23-08-2026/
CATEGORIES:Softplay booking
END:VEVENT
BEGIN:VEVENT
DTSTART;TZID=Europe/London:20260829T100000
DTEND;TZID=Europe/London:20260829T160000
DTSTAMP:20260421T175522
CREATED:20260329T204305Z
LAST-MODIFIED:20260329T204305Z
UID:36843-1787997600-1788019200@kiddistop.co.uk
SUMMARY:Softplay entry @ 10:00 29-08-2026
DESCRIPTION:
URL:https://kiddistop.co.uk/event/softplay-entry-1000-29-08-2026/
CATEGORIES:Softplay booking
END:VEVENT
BEGIN:VEVENT
DTSTART;TZID=Europe/London:20260830T100000
DTEND;TZID=Europe/London:20260830T160000
DTSTAMP:20260421T175522
CREATED:20260329T204306Z
LAST-MODIFIED:20260329T204306Z
UID:36844-1788084000-1788105600@kiddistop.co.uk
SUMMARY:Softplay entry @ 10:00 30-08-2026
DESCRIPTION:
URL:https://kiddistop.co.uk/event/softplay-entry-1000-30-08-2026/
CATEGORIES:Softplay booking
END:VEVENT
END:VCALENDAR