BEGIN:VCALENDAR
VERSION:2.0
PRODID:-//KiddiStop - ECPv6.15.11//NONSGML v1.0//EN
CALSCALE:GREGORIAN
METHOD:PUBLISH
X-WR-CALNAME:KiddiStop
X-ORIGINAL-URL:https://kiddistop.co.uk
X-WR-CALDESC:Events for KiddiStop
REFRESH-INTERVAL;VALUE=DURATION:PT1H
X-Robots-Tag:noindex
X-PUBLISHED-TTL:PT1H
BEGIN:VTIMEZONE
TZID:Europe/London
BEGIN:DAYLIGHT
TZOFFSETFROM:+0000
TZOFFSETTO:+0100
TZNAME:BST
DTSTART:20250330T010000
END:DAYLIGHT
BEGIN:STANDARD
TZOFFSETFROM:+0100
TZOFFSETTO:+0000
TZNAME:GMT
DTSTART:20251026T010000
END:STANDARD
BEGIN:DAYLIGHT
TZOFFSETFROM:+0000
TZOFFSETTO:+0100
TZNAME:BST
DTSTART:20260329T010000
END:DAYLIGHT
BEGIN:STANDARD
TZOFFSETFROM:+0100
TZOFFSETTO:+0000
TZNAME:GMT
DTSTART:20261025T010000
END:STANDARD
BEGIN:DAYLIGHT
TZOFFSETFROM:+0000
TZOFFSETTO:+0100
TZNAME:BST
DTSTART:20270328T010000
END:DAYLIGHT
BEGIN:STANDARD
TZOFFSETFROM:+0100
TZOFFSETTO:+0000
TZNAME:GMT
DTSTART:20271031T010000
END:STANDARD
END:VTIMEZONE
BEGIN:VEVENT
DTSTART;TZID=Europe/London:20260606T100000
DTEND;TZID=Europe/London:20260606T160000
DTSTAMP:20260421T151050
CREATED:20260329T204151Z
LAST-MODIFIED:20260329T204151Z
UID:36819-1780740000-1780761600@kiddistop.co.uk
SUMMARY:Softplay entry @ 10:00 06-06-2026
DESCRIPTION:
URL:https://kiddistop.co.uk/event/softplay-entry-1000-06-06-2026/
CATEGORIES:Softplay booking
END:VEVENT
BEGIN:VEVENT
DTSTART;TZID=Europe/London:20260607T100000
DTEND;TZID=Europe/London:20260607T160000
DTSTAMP:20260421T151050
CREATED:20260329T204151Z
LAST-MODIFIED:20260329T204151Z
UID:36820-1780826400-1780848000@kiddistop.co.uk
SUMMARY:Softplay entry @ 10:00 07-06-2026
DESCRIPTION:
URL:https://kiddistop.co.uk/event/softplay-entry-1000-07-06-2026/
CATEGORIES:Softplay booking
END:VEVENT
BEGIN:VEVENT
DTSTART;TZID=Europe/London:20260613T100000
DTEND;TZID=Europe/London:20260613T160000
DTSTAMP:20260421T151050
CREATED:20260329T204204Z
LAST-MODIFIED:20260329T204204Z
UID:36821-1781344800-1781366400@kiddistop.co.uk
SUMMARY:Softplay entry @ 10:00 13-06-2026
DESCRIPTION:
URL:https://kiddistop.co.uk/event/softplay-entry-1000-13-06-2026/
CATEGORIES:Softplay booking
END:VEVENT
BEGIN:VEVENT
DTSTART;TZID=Europe/London:20260614T100000
DTEND;TZID=Europe/London:20260614T160000
DTSTAMP:20260421T151050
CREATED:20260329T204205Z
LAST-MODIFIED:20260329T204205Z
UID:36822-1781431200-1781452800@kiddistop.co.uk
SUMMARY:Softplay entry @ 10:00 14-06-2026
DESCRIPTION:
URL:https://kiddistop.co.uk/event/softplay-entry-1000-14-06-2026/
CATEGORIES:Softplay booking
END:VEVENT
BEGIN:VEVENT
DTSTART;TZID=Europe/London:20260620T100000
DTEND;TZID=Europe/London:20260620T160000
DTSTAMP:20260421T151050
CREATED:20260329T204205Z
LAST-MODIFIED:20260329T204205Z
UID:36823-1781949600-1781971200@kiddistop.co.uk
SUMMARY:Softplay entry @ 10:00 20-06-2026
DESCRIPTION:
URL:https://kiddistop.co.uk/event/softplay-entry-1000-20-06-2026/
CATEGORIES:Softplay booking
END:VEVENT
BEGIN:VEVENT
DTSTART;TZID=Europe/London:20260621T100000
DTEND;TZID=Europe/London:20260621T160000
DTSTAMP:20260421T151050
CREATED:20260329T204206Z
LAST-MODIFIED:20260329T204206Z
UID:36824-1782036000-1782057600@kiddistop.co.uk
SUMMARY:Softplay entry @ 10:00 21-06-2026
DESCRIPTION:
URL:https://kiddistop.co.uk/event/softplay-entry-1000-21-06-2026/
CATEGORIES:Softplay booking
END:VEVENT
BEGIN:VEVENT
DTSTART;TZID=Europe/London:20260627T100000
DTEND;TZID=Europe/London:20260627T160000
DTSTAMP:20260421T151050
CREATED:20260329T204207Z
LAST-MODIFIED:20260329T204207Z
UID:36825-1782554400-1782576000@kiddistop.co.uk
SUMMARY:Softplay entry @ 10:00 27-06-2026
DESCRIPTION:
URL:https://kiddistop.co.uk/event/softplay-entry-1000-27-06-2026/
CATEGORIES:Softplay booking
END:VEVENT
BEGIN:VEVENT
DTSTART;TZID=Europe/London:20260628T100000
DTEND;TZID=Europe/London:20260628T160000
DTSTAMP:20260421T151050
CREATED:20260329T204219Z
LAST-MODIFIED:20260329T204219Z
UID:36826-1782640800-1782662400@kiddistop.co.uk
SUMMARY:Softplay entry @ 10:00 28-06-2026
DESCRIPTION:
URL:https://kiddistop.co.uk/event/softplay-entry-1000-28-06-2026/
CATEGORIES:Softplay booking
END:VEVENT
END:VCALENDAR