BEGIN:VCALENDAR
VERSION:2.0
PRODID:-//KiddiStop - ECPv6.15.11//NONSGML v1.0//EN
CALSCALE:GREGORIAN
METHOD:PUBLISH
X-ORIGINAL-URL:https://kiddistop.co.uk
X-WR-CALDESC:Events for KiddiStop
REFRESH-INTERVAL;VALUE=DURATION:PT1H
X-Robots-Tag:noindex
X-PUBLISHED-TTL:PT1H
BEGIN:VTIMEZONE
TZID:Europe/London
BEGIN:DAYLIGHT
TZOFFSETFROM:+0000
TZOFFSETTO:+0100
TZNAME:BST
DTSTART:20250330T010000
END:DAYLIGHT
BEGIN:STANDARD
TZOFFSETFROM:+0100
TZOFFSETTO:+0000
TZNAME:GMT
DTSTART:20251026T010000
END:STANDARD
BEGIN:DAYLIGHT
TZOFFSETFROM:+0000
TZOFFSETTO:+0100
TZNAME:BST
DTSTART:20260329T010000
END:DAYLIGHT
BEGIN:STANDARD
TZOFFSETFROM:+0100
TZOFFSETTO:+0000
TZNAME:GMT
DTSTART:20261025T010000
END:STANDARD
BEGIN:DAYLIGHT
TZOFFSETFROM:+0000
TZOFFSETTO:+0100
TZNAME:BST
DTSTART:20270328T010000
END:DAYLIGHT
BEGIN:STANDARD
TZOFFSETFROM:+0100
TZOFFSETTO:+0000
TZNAME:GMT
DTSTART:20271031T010000
END:STANDARD
END:VTIMEZONE
BEGIN:VEVENT
DTSTART;TZID=Europe/London:20260321T100000
DTEND;TZID=Europe/London:20260321T160000
DTSTAMP:20260421T123606
CREATED:20251220T095632Z
LAST-MODIFIED:20260321T152628Z
UID:27996-1774087200-1774108800@kiddistop.co.uk
SUMMARY:Softplay entry @ 10:00 21-03-2026
DESCRIPTION:
URL:https://kiddistop.co.uk/event/softplay-entry-1000-21-03-2026/
CATEGORIES:Softplay booking
END:VEVENT
BEGIN:VEVENT
DTSTART;TZID=Europe/London:20260322T100000
DTEND;TZID=Europe/London:20260322T150000
DTSTAMP:20260421T123606
CREATED:20251220T095830Z
LAST-MODIFIED:20260314T124701Z
UID:27997-1774173600-1774191600@kiddistop.co.uk
SUMMARY:Softplay entry @ 10:00 22-03-2026
DESCRIPTION:
URL:https://kiddistop.co.uk/event/softplay-entry-1000-22-03-2026/
CATEGORIES:Softplay booking
END:VEVENT
BEGIN:VEVENT
DTSTART;TZID=Europe/London:20260323T093000
DTEND;TZID=Europe/London:20260323T170000
DTSTAMP:20260421T123606
CREATED:20251220T095831Z
LAST-MODIFIED:20260322T100604Z
UID:27998-1774258200-1774285200@kiddistop.co.uk
SUMMARY:Softplay entry Walk in @ 09:30 23-03-2026
DESCRIPTION:
URL:https://kiddistop.co.uk/event/softplay-entry-walk-in-0930-23-03-2026/
CATEGORIES:Softplay booking
END:VEVENT
BEGIN:VEVENT
DTSTART;TZID=Europe/London:20260324T093000
DTEND;TZID=Europe/London:20260324T140000
DTSTAMP:20260421T123606
CREATED:20251220T095831Z
LAST-MODIFIED:20260322T095933Z
UID:27999-1774344600-1774360800@kiddistop.co.uk
SUMMARY:Softplay entry Walk in  @ 09:30 24-03-2026
DESCRIPTION:
URL:https://kiddistop.co.uk/event/softplay-entry-walk-in-0930-24-03-2026/
CATEGORIES:Softplay booking
END:VEVENT
BEGIN:VEVENT
DTSTART;TZID=Europe/London:20260325T093000
DTEND;TZID=Europe/London:20260325T140000
DTSTAMP:20260421T123606
CREATED:20251220T095832Z
LAST-MODIFIED:20260322T095545Z
UID:28000-1774431000-1774447200@kiddistop.co.uk
SUMMARY:Softplay entry Walk in @ 09:30 25-03-2026
DESCRIPTION:
URL:https://kiddistop.co.uk/event/softplay-entry-walk-in-0930-25-03-2026/
CATEGORIES:Softplay booking
END:VEVENT
BEGIN:VEVENT
DTSTART;TZID=Europe/London:20260326T093000
DTEND;TZID=Europe/London:20260326T140000
DTSTAMP:20260421T123606
CREATED:20251220T095832Z
LAST-MODIFIED:20260322T100406Z
UID:28001-1774517400-1774533600@kiddistop.co.uk
SUMMARY:Softplay entry Walk in @ 09:30 26-03-2026
DESCRIPTION:
URL:https://kiddistop.co.uk/event/softplay-entry-walk-in-0930-26-03-2026/
CATEGORIES:Softplay booking
END:VEVENT
BEGIN:VEVENT
DTSTART;TZID=Europe/London:20260327T093000
DTEND;TZID=Europe/London:20260327T170000
DTSTAMP:20260421T123606
CREATED:20251220T100031Z
LAST-MODIFIED:20260322T100917Z
UID:28002-1774603800-1774630800@kiddistop.co.uk
SUMMARY:Softplay entry Walk in @ 09:30 27-03-2026
DESCRIPTION:
URL:https://kiddistop.co.uk/event/softplay-entry-walk-in-0930-27-03-2026/
CATEGORIES:Softplay booking
END:VEVENT
BEGIN:VEVENT
DTSTART;TZID=Europe/London:20260328T100000
DTEND;TZID=Europe/London:20260328T160000
DTSTAMP:20260421T123606
CREATED:20251220T100032Z
LAST-MODIFIED:20260328T150929Z
UID:28003-1774692000-1774713600@kiddistop.co.uk
SUMMARY:Softplay entry @ 10:00 28-03-2026
DESCRIPTION:
URL:https://kiddistop.co.uk/event/softplay-entry-1000-28-03-2026/
CATEGORIES:Softplay booking
END:VEVENT
BEGIN:VEVENT
DTSTART;TZID=Europe/London:20260329T100000
DTEND;TZID=Europe/London:20260329T150000
DTSTAMP:20260421T123606
CREATED:20251220T100033Z
LAST-MODIFIED:20260327T131639Z
UID:28004-1774778400-1774796400@kiddistop.co.uk
SUMMARY:Softplay entry @ 10:00 29-03-2026
DESCRIPTION:
URL:https://kiddistop.co.uk/event/softplay-entry-1000-29-03-2026/
CATEGORIES:Softplay booking
END:VEVENT
BEGIN:VEVENT
DTSTART;TZID=Europe/London:20260330T093000
DTEND;TZID=Europe/London:20260330T170000
DTSTAMP:20260421T123606
CREATED:20251220T100033Z
LAST-MODIFIED:20260328T104237Z
UID:28005-1774863000-1774890000@kiddistop.co.uk
SUMMARY:Softplay entry Walk in @ 09:30 30-03-2026
DESCRIPTION:
URL:https://kiddistop.co.uk/event/softplay-entry-walk-in-0930-30-03-2026/
CATEGORIES:Softplay booking
END:VEVENT
BEGIN:VEVENT
DTSTART;TZID=Europe/London:20260331T093000
DTEND;TZID=Europe/London:20260331T170000
DTSTAMP:20260421T123606
CREATED:20251220T100034Z
LAST-MODIFIED:20260328T104801Z
UID:28006-1774949400-1774976400@kiddistop.co.uk
SUMMARY:Softplay entry Walk in@ 09:30 31-03-2026
DESCRIPTION:
URL:https://kiddistop.co.uk/event/softplay-entry-walk-in-0930-31-03-2026/
CATEGORIES:Softplay booking
END:VEVENT
END:VCALENDAR