BEGIN:VCALENDAR
VERSION:2.0
PRODID:-//KiddiStop - ECPv6.15.11//NONSGML v1.0//EN
CALSCALE:GREGORIAN
METHOD:PUBLISH
X-WR-CALNAME:KiddiStop
X-ORIGINAL-URL:https://kiddistop.co.uk
X-WR-CALDESC:Events for KiddiStop
REFRESH-INTERVAL;VALUE=DURATION:PT1H
X-Robots-Tag:noindex
X-PUBLISHED-TTL:PT1H
BEGIN:VTIMEZONE
TZID:Europe/London
BEGIN:DAYLIGHT
TZOFFSETFROM:+0000
TZOFFSETTO:+0100
TZNAME:BST
DTSTART:20250330T010000
END:DAYLIGHT
BEGIN:STANDARD
TZOFFSETFROM:+0100
TZOFFSETTO:+0000
TZNAME:GMT
DTSTART:20251026T010000
END:STANDARD
BEGIN:DAYLIGHT
TZOFFSETFROM:+0000
TZOFFSETTO:+0100
TZNAME:BST
DTSTART:20260329T010000
END:DAYLIGHT
BEGIN:STANDARD
TZOFFSETFROM:+0100
TZOFFSETTO:+0000
TZNAME:GMT
DTSTART:20261025T010000
END:STANDARD
BEGIN:DAYLIGHT
TZOFFSETFROM:+0000
TZOFFSETTO:+0100
TZNAME:BST
DTSTART:20270328T010000
END:DAYLIGHT
BEGIN:STANDARD
TZOFFSETFROM:+0100
TZOFFSETTO:+0000
TZNAME:GMT
DTSTART:20271031T010000
END:STANDARD
END:VTIMEZONE
BEGIN:VEVENT
DTSTART;TZID=Europe/London:20260425T130000
DTEND;TZID=Europe/London:20260425T150000
DTSTAMP:20260421T163407
CREATED:20260420T120656Z
LAST-MODIFIED:20260420T120754Z
UID:37757-1777122000-1777129200@kiddistop.co.uk
SUMMARY:Additional x3 children - 2 hour ticket for @25/April/2026
DESCRIPTION:
URL:https://kiddistop.co.uk/event/additional-x3-children-2-hour-ticket-for-25-april-2026/
CATEGORIES:Add-ons
END:VEVENT
BEGIN:VEVENT
DTSTART;TZID=Europe/London:20260425T190000
DTEND;TZID=Europe/London:20260425T193000
DTSTAMP:20260421T163407
CREATED:20260413T132048Z
LAST-MODIFIED:20260413T134715Z
UID:37466-1777143600-1777145400@kiddistop.co.uk
SUMMARY:Additional 30- Minutes Session for 25/04/2026
DESCRIPTION:
URL:https://kiddistop.co.uk/event/additional-30-minute-session-for-25-04-2026/
CATEGORIES:Add-ons
END:VEVENT
END:VCALENDAR