BEGIN:VCALENDAR
VERSION:2.0
PRODID:-//KiddiStop - ECPv6.15.11//NONSGML v1.0//EN
CALSCALE:GREGORIAN
METHOD:PUBLISH
X-WR-CALNAME:KiddiStop
X-ORIGINAL-URL:https://kiddistop.co.uk
X-WR-CALDESC:Events for KiddiStop
REFRESH-INTERVAL;VALUE=DURATION:PT1H
X-Robots-Tag:noindex
X-PUBLISHED-TTL:PT1H
BEGIN:VTIMEZONE
TZID:Europe/London
BEGIN:DAYLIGHT
TZOFFSETFROM:+0000
TZOFFSETTO:+0100
TZNAME:BST
DTSTART:20250330T010000
END:DAYLIGHT
BEGIN:STANDARD
TZOFFSETFROM:+0100
TZOFFSETTO:+0000
TZNAME:GMT
DTSTART:20251026T010000
END:STANDARD
BEGIN:DAYLIGHT
TZOFFSETFROM:+0000
TZOFFSETTO:+0100
TZNAME:BST
DTSTART:20260329T010000
END:DAYLIGHT
BEGIN:STANDARD
TZOFFSETFROM:+0100
TZOFFSETTO:+0000
TZNAME:GMT
DTSTART:20261025T010000
END:STANDARD
BEGIN:DAYLIGHT
TZOFFSETFROM:+0000
TZOFFSETTO:+0100
TZNAME:BST
DTSTART:20270328T010000
END:DAYLIGHT
BEGIN:STANDARD
TZOFFSETFROM:+0100
TZOFFSETTO:+0000
TZNAME:GMT
DTSTART:20271031T010000
END:STANDARD
END:VTIMEZONE
BEGIN:VEVENT
DTSTART;TZID=Europe/London:20260503T130000
DTEND;TZID=Europe/London:20260503T150000
DTSTAMP:20260421T175712
CREATED:20260410T101059Z
LAST-MODIFIED:20260413T135900Z
UID:37201-1777813200-1777820400@kiddistop.co.uk
SUMMARY:Add - ons @ 13:00 / 03-05-2026
DESCRIPTION:Party package 3 upgrade
URL:https://kiddistop.co.uk/event/add-ons-1300-03-05-2026/
CATEGORIES:Add-ons
END:VEVENT
BEGIN:VEVENT
DTSTART;TZID=Europe/London:20260517T130000
DTEND;TZID=Europe/London:20260517T150000
DTSTAMP:20260421T175712
CREATED:20260417T145429Z
LAST-MODIFIED:20260417T145629Z
UID:37531-1779022800-1779030000@kiddistop.co.uk
SUMMARY:Add-ons Additional x10 children for the 17 May 2026 @1:00-3:00
DESCRIPTION:
URL:https://kiddistop.co.uk/event/add-ons-additional-x10-children-for-the-17-may-2026-100-300/
CATEGORIES:Add-ons
END:VEVENT
BEGIN:VEVENT
DTSTART;TZID=Europe/London:20260531T160000
DTEND;TZID=Europe/London:20260531T180000
DTSTAMP:20260421T175712
CREATED:20260316T145909Z
LAST-MODIFIED:20260316T150512Z
UID:36286-1780243200-1780250400@kiddistop.co.uk
SUMMARY:Add-ons 31-05-2026 @ 4-6
DESCRIPTION:
URL:https://kiddistop.co.uk/event/add-ons-31-05-2026-4-6/
CATEGORIES:Add-ons
END:VEVENT
END:VCALENDAR